BEGIN:VCALENDAR
VERSION:2.0
PRODID:-//Bowling Green Works - ECPv6.15.20//NONSGML v1.0//EN
CALSCALE:GREGORIAN
METHOD:PUBLISH
X-ORIGINAL-URL:https://www.bowlinggreenworks.com
X-WR-CALDESC:Events for Bowling Green Works
REFRESH-INTERVAL;VALUE=DURATION:PT1H
X-Robots-Tag:noindex
X-PUBLISHED-TTL:PT1H
BEGIN:VTIMEZONE
TZID:America/Chicago
BEGIN:DAYLIGHT
TZOFFSETFROM:-0600
TZOFFSETTO:-0500
TZNAME:CDT
DTSTART:20230312T080000
END:DAYLIGHT
BEGIN:STANDARD
TZOFFSETFROM:-0500
TZOFFSETTO:-0600
TZNAME:CST
DTSTART:20231105T070000
END:STANDARD
BEGIN:DAYLIGHT
TZOFFSETFROM:-0600
TZOFFSETTO:-0500
TZNAME:CDT
DTSTART:20240310T080000
END:DAYLIGHT
BEGIN:STANDARD
TZOFFSETFROM:-0500
TZOFFSETTO:-0600
TZNAME:CST
DTSTART:20241103T070000
END:STANDARD
BEGIN:DAYLIGHT
TZOFFSETFROM:-0600
TZOFFSETTO:-0500
TZNAME:CDT
DTSTART:20250309T080000
END:DAYLIGHT
BEGIN:STANDARD
TZOFFSETFROM:-0500
TZOFFSETTO:-0600
TZNAME:CST
DTSTART:20251102T070000
END:STANDARD
END:VTIMEZONE
BEGIN:VEVENT
DTSTART;TZID=America/Chicago:20241207T100000
DTEND;TZID=America/Chicago:20241207T150000
DTSTAMP:20260424T030432
CREATED:20241203T032220Z
LAST-MODIFIED:20241203T033327Z
UID:10000030-1733565600-1733583600@www.bowlinggreenworks.com
SUMMARY:Community Career Fair
DESCRIPTION:[vc_row][vc_column width=”1/2″ offset=”vc_col-lg-6 vc_col-md-6 vc_col-xs-12″][vc_single_image image=”3203″ img_size=”full” css=”” image_hovers=”false”][/vc_column][vc_column width=”1/2″ offset=”vc_col-lg-6 vc_col-md-6 vc_col-xs-12″][vc_column_text css=””]Footprints Outreach and Support\, Inc. \nCommunity Career Fair\nGet Your Dream Job Here\nEmployers from Surrounding Areas\nJobs in Various Fields \n\nResume Workshop\nMock Interviews\nDress for Success Clothing Closet\nOn-the-Spot Interviews\nEmployment Advocacy\n\nSaturday\, December 7\, 2024\n10am – 3pm\nBlewitt Bradley Building\n309 N High St \nRSVP Your Business\n765-610-4335\nsupportedemployment@footprintsoutreach.com[/vc_column_text][/vc_column][/vc_row]
URL:https://www.bowlinggreenworks.com/event/fosi-community-career-fair/
LOCATION:Blewitt Bradley Building\, 309 N High St\, Bowling Green\, KY\, United States
ATTACH;FMTTYPE=image/jpeg:https://www.bowlinggreenworks.com/wp-content/uploads/2024/12/community-career-fair-2024.jpg
END:VEVENT
END:VCALENDAR